BEGIN:VCALENDAR
VERSION:2.0
PRODID:icalendar-ruby
CALSCALE:GREGORIAN
METHOD:PUBLISH
BEGIN:VEVENT
DTSTAMP:20260422T211100Z
UID:12-1987199@mylcor.org
DTSTART:20260915T113000Z
DTEND:20260915T123000Z
CLASS:PUBLIC
CREATED:20260422T141600
DESCRIPTION:
LAST-MODIFIED:20260422T141600
LOCATION:Perry Hall
SUMMARY:Bible and Biscuits
URL;VALUE=URI:https://www.mylcor.org/events/bible-and-biscuits/2026-09-15
END:VEVENT
END:VCALENDAR
