BEGIN:VCALENDAR
VERSION:2.0
PRODID:icalendar-ruby
CALSCALE:GREGORIAN
METHOD:PUBLISH
BEGIN:VEVENT
DTSTAMP:20260422T225811Z
UID:12-1988444@mylcor.org
DTSTART:20260922T113000Z
DTEND:20260922T123000Z
CLASS:PUBLIC
CREATED:20260422T171113
DESCRIPTION:
LAST-MODIFIED:20260422T171113
LOCATION:Perry Hall
SUMMARY:Bible and Biscuits
URL;VALUE=URI:https://www.mylcor.org/events/bible-and-biscuits/2026-09-22
END:VEVENT
END:VCALENDAR
