BEGIN:VCALENDAR
VERSION:2.0
PRODID:icalendar-ruby
CALSCALE:GREGORIAN
METHOD:PUBLISH
BEGIN:VEVENT
DTSTAMP:20260423T004337Z
UID:12-1989689@mylcor.org
DTSTART:20260929T113000Z
DTEND:20260929T123000Z
CLASS:PUBLIC
CREATED:20260422T200258
DESCRIPTION:
LAST-MODIFIED:20260422T200258
LOCATION:Perry Hall
SUMMARY:Bible and Biscuits
URL;VALUE=URI:https://www.mylcor.org/events/bible-and-biscuits/2026-09-29
END:VEVENT
END:VCALENDAR
