BEGIN:VCALENDAR
VERSION:2.0
PRODID:icalendar-ruby
CALSCALE:GREGORIAN
METHOD:PUBLISH
BEGIN:VEVENT
DTSTAMP:20260423T041230Z
UID:12-1990935@mylcor.org
DTSTART:20261013T113000Z
DTEND:20261013T123000Z
CLASS:PUBLIC
CREATED:20260422T225702
DESCRIPTION:
LAST-MODIFIED:20260422T225702
LOCATION:Perry Hall
SUMMARY:Bible and Biscuits
URL;VALUE=URI:https://www.mylcor.org/events/bible-and-biscuits/2026-10-13
END:VEVENT
END:VCALENDAR
