BEGIN:VCALENDAR
VERSION:2.0
PRODID:icalendar-ruby
CALSCALE:GREGORIAN
METHOD:PUBLISH
BEGIN:VEVENT
DTSTAMP:20260424T095343Z
UID:42-1999160@mylcor.org
DTSTART:20260901T210000Z
DTEND:20260901T220000Z
CLASS:PUBLIC
CREATED:20260423T225906
DESCRIPTION:
LAST-MODIFIED:20260423T225906
LOCATION:
SUMMARY:Choir Rehearsal
URL;VALUE=URI:https://www.mylcor.org/events/choir-rehearsal/2026-09-01
END:VEVENT
END:VCALENDAR
