BEGIN:VCALENDAR
VERSION:2.0
PRODID:icalendar-ruby
CALSCALE:GREGORIAN
METHOD:PUBLISH
BEGIN:VEVENT
DTSTAMP:20260422T222406Z
UID:42-1989205@mylcor.org
DTSTART:20260908T210000Z
DTEND:20260908T220000Z
CLASS:PUBLIC
CREATED:20260422T171115
DESCRIPTION:
LAST-MODIFIED:20260422T171115
LOCATION:
SUMMARY:Choir Rehearsal
URL;VALUE=URI:https://www.mylcor.org/events/choir-rehearsal/2026-09-08
END:VEVENT
END:VCALENDAR
