BEGIN:VCALENDAR
VERSION:2.0
PRODID:icalendar-ruby
CALSCALE:GREGORIAN
METHOD:PUBLISH
BEGIN:VEVENT
DTSTAMP:20260423T020328Z
UID:42-1990451@mylcor.org
DTSTART:20260922T210000Z
DTEND:20260922T220000Z
CLASS:PUBLIC
CREATED:20260422T200259
DESCRIPTION:
LAST-MODIFIED:20260422T200259
LOCATION:
SUMMARY:Choir Rehearsal
URL;VALUE=URI:https://www.mylcor.org/events/choir-rehearsal/2026-09-22
END:VEVENT
END:VCALENDAR
