BEGIN:VCALENDAR
VERSION:2.0
PRODID:icalendar-ruby
CALSCALE:GREGORIAN
METHOD:PUBLISH
BEGIN:VEVENT
DTSTAMP:20260423T034746Z
UID:42-1991696@mylcor.org
DTSTART:20260929T210000Z
DTEND:20260929T220000Z
CLASS:PUBLIC
CREATED:20260422T225704
DESCRIPTION:
LAST-MODIFIED:20260422T225704
LOCATION:
SUMMARY:Choir Rehearsal
URL;VALUE=URI:https://www.mylcor.org/events/choir-rehearsal/2026-09-29
END:VEVENT
END:VCALENDAR
