BEGIN:VCALENDAR
VERSION:2.0
PRODID:icalendar-ruby
CALSCALE:GREGORIAN
METHOD:PUBLISH
BEGIN:VEVENT
DTSTAMP:20260423T142317Z
UID:13-1992272@mylcor.org
DTSTART:20260922T130000Z
DTEND:20260922T140000Z
CLASS:PUBLIC
CREATED:20260423T082719
DESCRIPTION:
LAST-MODIFIED:20260423T082719
LOCATION:Conference Room
SUMMARY:Counters
URL;VALUE=URI:https://www.mylcor.org/events/counters/2026-09-22
END:VEVENT
END:VCALENDAR
