BEGIN:VCALENDAR
VERSION:2.0
PRODID:icalendar-ruby
CALSCALE:GREGORIAN
METHOD:PUBLISH
BEGIN:VEVENT
DTSTAMP:20260423T162045Z
UID:13-1993517@mylcor.org
DTSTART:20260929T130000Z
DTEND:20260929T140000Z
CLASS:PUBLIC
CREATED:20260423T111948
DESCRIPTION:
LAST-MODIFIED:20260423T111948
LOCATION:Conference Room
SUMMARY:Counters
URL;VALUE=URI:https://www.mylcor.org/events/counters/2026-09-29
END:VEVENT
END:VCALENDAR
