BEGIN:VCALENDAR
VERSION:2.0
PRODID:icalendar-ruby
CALSCALE:GREGORIAN
METHOD:PUBLISH
BEGIN:VEVENT
DTSTAMP:20260423T182954Z
UID:13-1994763@mylcor.org
DTSTART:20261006T130000Z
DTEND:20261006T140000Z
CLASS:PUBLIC
CREATED:20260423T141613
DESCRIPTION:
LAST-MODIFIED:20260423T141613
LOCATION:Conference Room
SUMMARY:Counters
URL;VALUE=URI:https://www.mylcor.org/events/counters/2026-10-06
END:VEVENT
END:VCALENDAR
