BEGIN:VCALENDAR
VERSION:2.0
PRODID:icalendar-ruby
CALSCALE:GREGORIAN
METHOD:PUBLISH
BEGIN:VEVENT
DTSTAMP:20260423T214953Z
UID:13-1996010@mylcor.org
DTSTART:20261020T130000Z
DTEND:20261020T140000Z
CLASS:PUBLIC
CREATED:20260423T171119
DESCRIPTION:
LAST-MODIFIED:20260423T171119
LOCATION:Conference Room
SUMMARY:Counters
URL;VALUE=URI:https://www.mylcor.org/events/counters/2026-10-20
END:VEVENT
END:VCALENDAR
