BEGIN:VCALENDAR
VERSION:2.0
PRODID:icalendar-ruby
CALSCALE:GREGORIAN
METHOD:PUBLISH
BEGIN:VEVENT
DTSTAMP:20260423T234319Z
UID:13-1996011@mylcor.org
DTSTART:20261027T130000Z
DTEND:20261027T140000Z
CLASS:PUBLIC
CREATED:20260423T171119
DESCRIPTION:
LAST-MODIFIED:20260423T171119
LOCATION:Conference Room
SUMMARY:Counters
URL;VALUE=URI:https://www.mylcor.org/events/counters/2026-10-27
END:VEVENT
END:VCALENDAR
