BEGIN:VCALENDAR
VERSION:2.0
PRODID:icalendar-ruby
CALSCALE:GREGORIAN
METHOD:PUBLISH
BEGIN:VEVENT
DTSTAMP:20260424T013524Z
UID:13-1997257@mylcor.org
DTSTART:20261103T140000Z
DTEND:20261103T150000Z
CLASS:PUBLIC
CREATED:20260423T200438
DESCRIPTION:
LAST-MODIFIED:20260423T200438
LOCATION:Conference Room
SUMMARY:Counters
URL;VALUE=URI:https://www.mylcor.org/events/counters/2026-11-03
END:VEVENT
END:VCALENDAR
