BEGIN:VCALENDAR
VERSION:2.0
PRODID:icalendar-ruby
CALSCALE:GREGORIAN
METHOD:PUBLISH
BEGIN:VEVENT
DTSTAMP:20260422T013105Z
UID:10-1983374@mylcor.org
DTSTART:20260914T170000Z
DTEND:20260914T180000Z
CLASS:PUBLIC
CREATED:20260421T211920
DESCRIPTION:
LAST-MODIFIED:20260421T211920
LOCATION:Ministry Center
SUMMARY:Pickleball
URL;VALUE=URI:https://www.mylcor.org/events/pickleball--10/2026-09-14
END:VEVENT
END:VCALENDAR
