BEGIN:VCALENDAR
VERSION:2.0
PRODID:icalendar-ruby
CALSCALE:GREGORIAN
METHOD:PUBLISH
BEGIN:VEVENT
DTSTAMP:20260422T102021Z
UID:10-1983379@mylcor.org
DTSTART:20261019T170000Z
DTEND:20261019T180000Z
CLASS:PUBLIC
CREATED:20260421T211920
DESCRIPTION:
LAST-MODIFIED:20260421T211920
LOCATION:Ministry Center
SUMMARY:Pickleball
URL;VALUE=URI:https://www.mylcor.org/events/pickleball--10/2026-10-19
END:VEVENT
END:VCALENDAR
