BEGIN:VCALENDAR
VERSION:2.0
PRODID:icalendar-ruby
CALSCALE:GREGORIAN
METHOD:PUBLISH
BEGIN:VEVENT
DTSTAMP:20260422T132108Z
UID:10-1984624@mylcor.org
DTSTART:20261102T180000Z
DTEND:20261102T190000Z
CLASS:PUBLIC
CREATED:20260422T082600
DESCRIPTION:
LAST-MODIFIED:20260422T082600
LOCATION:Ministry Center
SUMMARY:Pickleball
URL;VALUE=URI:https://www.mylcor.org/events/pickleball--10/2026-11-02
END:VEVENT
END:VCALENDAR
