BEGIN:VCALENDAR
VERSION:2.0
PRODID:icalendar-ruby
CALSCALE:GREGORIAN
METHOD:PUBLISH
BEGIN:VEVENT
DTSTAMP:20260423T015716Z
UID:15-1989975@mylcor.org
DTSTART:20260916T170000Z
DTEND:20260916T180000Z
CLASS:PUBLIC
CREATED:20260422T200258
DESCRIPTION:
LAST-MODIFIED:20260422T200258
LOCATION:Ministry Center
SUMMARY:Pickleball
URL;VALUE=URI:https://www.mylcor.org/events/pickleball--15/2026-09-16
END:VEVENT
END:VCALENDAR
