BEGIN:VCALENDAR
VERSION:2.0
PRODID:icalendar-ruby
CALSCALE:GREGORIAN
METHOD:PUBLISH
BEGIN:VEVENT
DTSTAMP:20260423T112511Z
UID:15-1991224@mylcor.org
DTSTART:20261021T170000Z
DTEND:20261021T180000Z
CLASS:PUBLIC
CREATED:20260422T225703
DESCRIPTION:
LAST-MODIFIED:20260422T225703
LOCATION:Ministry Center
SUMMARY:Pickleball
URL;VALUE=URI:https://www.mylcor.org/events/pickleball--15/2026-10-21
END:VEVENT
END:VCALENDAR
