BEGIN:VCALENDAR
VERSION:2.0
PRODID:icalendar-ruby
CALSCALE:GREGORIAN
METHOD:PUBLISH
BEGIN:VEVENT
DTSTAMP:20260423T131157Z
UID:15-1992469@mylcor.org
DTSTART:20261028T170000Z
DTEND:20261028T180000Z
CLASS:PUBLIC
CREATED:20260423T082719
DESCRIPTION:
LAST-MODIFIED:20260423T082719
LOCATION:Ministry Center
SUMMARY:Pickleball
URL;VALUE=URI:https://www.mylcor.org/events/pickleball--15/2026-10-28
END:VEVENT
END:VCALENDAR
