BEGIN:VCALENDAR
VERSION:2.0
PRODID:icalendar-ruby
CALSCALE:GREGORIAN
METHOD:PUBLISH
BEGIN:VEVENT
DTSTAMP:20260424T003502Z
UID:23-1997631@mylcor.org
DTSTART:20260904T170000Z
DTEND:20260904T180000Z
CLASS:PUBLIC
CREATED:20260423T200438
DESCRIPTION:
LAST-MODIFIED:20260423T200438
LOCATION:Ministry Center
SUMMARY:Pickleball
URL;VALUE=URI:https://www.mylcor.org/events/pickleball--22/2026-09-04
END:VEVENT
END:VCALENDAR
