BEGIN:VCALENDAR
VERSION:2.0
PRODID:icalendar-ruby
CALSCALE:GREGORIAN
METHOD:PUBLISH
BEGIN:VEVENT
DTSTAMP:20260424T023508Z
UID:23-1997632@mylcor.org
DTSTART:20260911T170000Z
DTEND:20260911T180000Z
CLASS:PUBLIC
CREATED:20260423T200438
DESCRIPTION:
LAST-MODIFIED:20260423T200438
LOCATION:Ministry Center
SUMMARY:Pickleball
URL;VALUE=URI:https://www.mylcor.org/events/pickleball--22/2026-09-11
END:VEVENT
END:VCALENDAR
