BEGIN:VCALENDAR
VERSION:2.0
PRODID:icalendar-ruby
CALSCALE:GREGORIAN
METHOD:PUBLISH
BEGIN:VEVENT
DTSTAMP:20260424T063726Z
UID:23-1998879@mylcor.org
DTSTART:20260925T170000Z
DTEND:20260925T180000Z
CLASS:PUBLIC
CREATED:20260423T225906
DESCRIPTION:
LAST-MODIFIED:20260423T225906
LOCATION:Ministry Center
SUMMARY:Pickleball
URL;VALUE=URI:https://www.mylcor.org/events/pickleball--22/2026-09-25
END:VEVENT
END:VCALENDAR
