BEGIN:VCALENDAR
VERSION:2.0
PRODID:icalendar-ruby
CALSCALE:GREGORIAN
METHOD:PUBLISH
BEGIN:VEVENT
DTSTAMP:20260423T083340Z
UID:34-1991583@mylcor.org
DTSTART:20261024T130000Z
DTEND:20261024T140000Z
CLASS:PUBLIC
CREATED:20260422T225703
DESCRIPTION:
LAST-MODIFIED:20260422T225703
LOCATION:Ministry Center
SUMMARY:Pickleball
URL;VALUE=URI:https://www.mylcor.org/events/pickleball--34/2026-10-24
END:VEVENT
END:VCALENDAR
