BEGIN:VCALENDAR
VERSION:2.0
PRODID:icalendar-ruby
CALSCALE:GREGORIAN
METHOD:PUBLISH
BEGIN:VEVENT
DTSTAMP:20260423T082036Z
UID:8-1990741@mylcor.org
DTSTART:20260925T120000Z
DTEND:20260925T130000Z
CLASS:PUBLIC
CREATED:20260422T225702
DESCRIPTION:
LAST-MODIFIED:20260422T225702
LOCATION:Perry Hall
SUMMARY:TOPS Meeting
URL;VALUE=URI:https://www.mylcor.org/events/tops-meeting/2026-09-25
END:VEVENT
END:VCALENDAR
