BEGIN:VCALENDAR
VERSION:2.0
PRODID:icalendar-ruby
CALSCALE:GREGORIAN
METHOD:PUBLISH
BEGIN:VEVENT
DTSTAMP:20260423T101631Z
UID:8-1990742@mylcor.org
DTSTART:20261002T120000Z
DTEND:20261002T130000Z
CLASS:PUBLIC
CREATED:20260422T225702
DESCRIPTION:
LAST-MODIFIED:20260422T225702
LOCATION:Perry Hall
SUMMARY:TOPS Meeting
URL;VALUE=URI:https://www.mylcor.org/events/tops-meeting/2026-10-02
END:VEVENT
END:VCALENDAR
