BEGIN:VCALENDAR
VERSION:2.0
PRODID:icalendar-ruby
CALSCALE:GREGORIAN
METHOD:PUBLISH
BEGIN:VEVENT
DTSTAMP:20260420T033037Z
UID:27-1966702@mylcor.org
DTSTART:20260921T180000Z
DTEND:20260921T183000Z
CLASS:PUBLIC
CREATED:20260419T201336
DESCRIPTION:
LAST-MODIFIED:20260419T201336
LOCATION:
SUMMARY:Ukulele Practice
URL;VALUE=URI:https://www.mylcor.org/events/ukulele-practice/2026-09-21
END:VEVENT
END:VCALENDAR
