BEGIN:VCALENDAR
VERSION:2.0
PRODID:icalendar-ruby
CALSCALE:GREGORIAN
METHOD:PUBLISH
BEGIN:VEVENT
DTSTAMP:20260420T051014Z
UID:27-1967938@mylcor.org
DTSTART:20260928T180000Z
DTEND:20260928T183000Z
CLASS:PUBLIC
CREATED:20260419T235101
DESCRIPTION:
LAST-MODIFIED:20260419T235101
LOCATION:
SUMMARY:Ukulele Practice
URL;VALUE=URI:https://www.mylcor.org/events/ukulele-practice/2026-09-28
END:VEVENT
END:VCALENDAR
