BEGIN:VCALENDAR
VERSION:2.0
PRODID:icalendar-ruby
CALSCALE:GREGORIAN
METHOD:PUBLISH
BEGIN:VEVENT
DTSTAMP:20260422T091646Z
UID:27-1984036@mylcor.org
DTSTART:20261012T180000Z
DTEND:20261012T183000Z
CLASS:PUBLIC
CREATED:20260421T211921
DESCRIPTION:
LAST-MODIFIED:20260421T211921
LOCATION:
SUMMARY:Ukulele Practice
URL;VALUE=URI:https://www.mylcor.org/events/ukulele-practice/2026-10-12
END:VEVENT
END:VCALENDAR
