BEGIN:VCALENDAR
VERSION:2.0
PRODID:icalendar-ruby
CALSCALE:GREGORIAN
METHOD:PUBLISH
BEGIN:VEVENT
DTSTAMP:20260422T130048Z
UID:27-1985281@mylcor.org
DTSTART:20261026T180000Z
DTEND:20261026T183000Z
CLASS:PUBLIC
CREATED:20260422T082602
DESCRIPTION:
LAST-MODIFIED:20260422T082602
LOCATION:
SUMMARY:Ukulele Practice
URL;VALUE=URI:https://www.mylcor.org/events/ukulele-practice/2026-10-26
END:VEVENT
END:VCALENDAR
