BEGIN:VCALENDAR
VERSION:2.0
PRODID:icalendar-ruby
CALSCALE:GREGORIAN
METHOD:PUBLISH
BEGIN:VEVENT
DTSTAMP:20260422T145059Z
UID:27-1985282@mylcor.org
DTSTART:20261102T190000Z
DTEND:20261102T193000Z
CLASS:PUBLIC
CREATED:20260422T082602
DESCRIPTION:
LAST-MODIFIED:20260422T082602
LOCATION:
SUMMARY:Ukulele Practice
URL;VALUE=URI:https://www.mylcor.org/events/ukulele-practice/2026-11-02
END:VEVENT
END:VCALENDAR
